BEGIN:VCALENDAR
VERSION:2.0
PRODID:-//ASETHaarlem - ECPv6.15.20//NONSGML v1.0//EN
CALSCALE:GREGORIAN
METHOD:PUBLISH
X-WR-CALNAME:ASETHaarlem
X-ORIGINAL-URL:https://www.asethaarlem.nl
X-WR-CALDESC:Evenementen voor ASETHaarlem
REFRESH-INTERVAL;VALUE=DURATION:PT1H
X-Robots-Tag:noindex
X-PUBLISHED-TTL:PT1H
BEGIN:VTIMEZONE
TZID:Europe/Paris
BEGIN:DAYLIGHT
TZOFFSETFROM:+0100
TZOFFSETTO:+0200
TZNAME:CEST
DTSTART:20170326T010000
END:DAYLIGHT
BEGIN:STANDARD
TZOFFSETFROM:+0200
TZOFFSETTO:+0100
TZNAME:CET
DTSTART:20171029T010000
END:STANDARD
BEGIN:DAYLIGHT
TZOFFSETFROM:+0100
TZOFFSETTO:+0200
TZNAME:CEST
DTSTART:20180325T010000
END:DAYLIGHT
BEGIN:STANDARD
TZOFFSETFROM:+0200
TZOFFSETTO:+0100
TZNAME:CET
DTSTART:20181028T010000
END:STANDARD
BEGIN:DAYLIGHT
TZOFFSETFROM:+0100
TZOFFSETTO:+0200
TZNAME:CEST
DTSTART:20190331T010000
END:DAYLIGHT
BEGIN:STANDARD
TZOFFSETFROM:+0200
TZOFFSETTO:+0100
TZNAME:CET
DTSTART:20191027T010000
END:STANDARD
END:VTIMEZONE
BEGIN:VEVENT
DTSTART;TZID=Europe/Paris:20180514T200000
DTEND;TZID=Europe/Paris:20180514T220000
DTSTAMP:20260421T085420
CREATED:20180321T110808Z
LAST-MODIFIED:20180423T141332Z
UID:1483-1526328000-1526335200@www.asethaarlem.nl
SUMMARY:Leden voor leden
DESCRIPTION:Margot Timmer vertelt\nover haar bedrijf Margot Timmer voor Tuin en Terras.\nRuim 25 jaar geleden startte zij haar bedrijf en zij heeft sindsdien een mooie diversiteit aan groene opdrachten mogen uitvoeren. Hierover zal zij vertellen\, wat haar bewogen heeft om voor zichzelf te starten en ingaan op de nieuwste ´groene´trends. \nMargot Vlietstra vertelt\nover haar bedrijf Vlietstra Belastingadvies en Administratie.\nMargot is zes jaar geleden gestart met haar eigen bedrijf Vlietstra Belastingadvies en Administratie en heeft in de afgelopen jaren een mooi klantenbestand opgebouwd. Tijdens deze avond zal ze jullie meenemen in het proces van factuur tot aangifte. Mochten er specifieke vragen zijn\, laat het haar dan van te voren weten. \nVooraf samen dineren?\nMocht je van te voren een hapje willen eten\, dan kan je je uitsluitend per mail opgeven via info@restauranthout.nl. Doe dit uiterlijk voor maandag 16.00 uur. Binnenkomst voor het eten is half 7 en om kwart voor zeven wordt er besteld. Tot kwart voor acht kan je koffie en thee bestellen\, waarna de bijeenkomst om 20.00 uur zal starten. \nMocht je als lid niet aanwezig kunnen zijn\, laat het dan Karin per mail even weten.\nWil je graag als introducé een keer komen\, dan ben je van harte welkom! Meld je svp hier aan. \nTOT DAN!
URL:https://www.asethaarlem.nl/agenda/leden-voor-leden-2/
LOCATION:Sociëteit Vereeniging Haarlem\, Zijlweg 1\, Haarlem\, Nederland
CATEGORIES:Leden voor Leden
ATTACH;FMTTYPE=image/jpeg:https://www.asethaarlem.nl/wp-content/uploads/2018/03/Margot_Timmer.jpg
END:VEVENT
END:VCALENDAR