BEGIN:VCALENDAR
VERSION:2.0
PRODID:-//ASETHaarlem - ECPv6.15.20//NONSGML v1.0//EN
CALSCALE:GREGORIAN
METHOD:PUBLISH
X-WR-CALNAME:ASETHaarlem
X-ORIGINAL-URL:https://www.asethaarlem.nl
X-WR-CALDESC:Evenementen voor ASETHaarlem
REFRESH-INTERVAL;VALUE=DURATION:PT1H
X-Robots-Tag:noindex
X-PUBLISHED-TTL:PT1H
BEGIN:VTIMEZONE
TZID:Europe/Paris
BEGIN:DAYLIGHT
TZOFFSETFROM:+0100
TZOFFSETTO:+0200
TZNAME:CEST
DTSTART:20160327T010000
END:DAYLIGHT
BEGIN:STANDARD
TZOFFSETFROM:+0200
TZOFFSETTO:+0100
TZNAME:CET
DTSTART:20161030T010000
END:STANDARD
BEGIN:DAYLIGHT
TZOFFSETFROM:+0100
TZOFFSETTO:+0200
TZNAME:CEST
DTSTART:20170326T010000
END:DAYLIGHT
BEGIN:STANDARD
TZOFFSETFROM:+0200
TZOFFSETTO:+0100
TZNAME:CET
DTSTART:20171029T010000
END:STANDARD
BEGIN:DAYLIGHT
TZOFFSETFROM:+0100
TZOFFSETTO:+0200
TZNAME:CEST
DTSTART:20180325T010000
END:DAYLIGHT
BEGIN:STANDARD
TZOFFSETFROM:+0200
TZOFFSETTO:+0100
TZNAME:CET
DTSTART:20181028T010000
END:STANDARD
END:VTIMEZONE
BEGIN:VEVENT
DTSTART;TZID=Europe/Paris:20170904T200000
DTEND;TZID=Europe/Paris:20170904T220000
DTSTAMP:20260423T131152
CREATED:20170212T161324Z
LAST-MODIFIED:20170821T123901Z
UID:1217-1504555200-1504562400@www.asethaarlem.nl
SUMMARY:Groei en ambitie
DESCRIPTION:Groei en ambitie: Hoe stippel je de groei van jouw bedrijf uit?\nOp een speelse manier neemt Aletta ons mee in mogelijke antwoorden.\nEen avond waar we voor even in elkaars schoenen stappen\, doorvragen over plannen en ambities en elkaar feedback geven met behulp van The Start-Up Game! \n  \nVooraf samen dineren?\nMocht je van te voren een hapje willen eten\, dan kan je je uitsluitend per mail opgeven via info@restauranthout.nl. Doe dit uiterlijk voor maandag 16.00 uur. Binnenkomst voor het eten is half 7 en om kwart voor zeven wordt er besteld. Tot kwart voor acht kan je koffie en thee bestellen\, waarna de bijeenkomst om 20.00 uur zal starten. \nMocht je als lid niet aanwezig kunnen zijn\, laat het dan Karin per mail even weten.\nWil je graag als introduce een keer komen\, dan meld je svp hier aan. \nTOT DAN!
URL:https://www.asethaarlem.nl/agenda/groei-en-ambitie/
LOCATION:Sociëteit Vereeniging Haarlem\, Zijlweg 1\, Haarlem\, Nederland
CATEGORIES:persoonlijke ontwikkeling,slimmer werken
ATTACH;FMTTYPE=image/jpeg:https://www.asethaarlem.nl/wp-content/uploads/2016/01/werkplek.jpg
END:VEVENT
END:VCALENDAR