BEGIN:VCALENDAR
VERSION:2.0
PRODID:-//ASETHaarlem - ECPv6.15.20//NONSGML v1.0//EN
CALSCALE:GREGORIAN
METHOD:PUBLISH
X-ORIGINAL-URL:https://www.asethaarlem.nl
X-WR-CALDESC:Evenementen voor ASETHaarlem
REFRESH-INTERVAL;VALUE=DURATION:PT1H
X-Robots-Tag:noindex
X-PUBLISHED-TTL:PT1H
BEGIN:VTIMEZONE
TZID:Europe/Paris
BEGIN:DAYLIGHT
TZOFFSETFROM:+0100
TZOFFSETTO:+0200
TZNAME:CEST
DTSTART:20160327T010000
END:DAYLIGHT
BEGIN:STANDARD
TZOFFSETFROM:+0200
TZOFFSETTO:+0100
TZNAME:CET
DTSTART:20161030T010000
END:STANDARD
BEGIN:DAYLIGHT
TZOFFSETFROM:+0100
TZOFFSETTO:+0200
TZNAME:CEST
DTSTART:20170326T010000
END:DAYLIGHT
BEGIN:STANDARD
TZOFFSETFROM:+0200
TZOFFSETTO:+0100
TZNAME:CET
DTSTART:20171029T010000
END:STANDARD
BEGIN:DAYLIGHT
TZOFFSETFROM:+0100
TZOFFSETTO:+0200
TZNAME:CEST
DTSTART:20180325T010000
END:DAYLIGHT
BEGIN:STANDARD
TZOFFSETFROM:+0200
TZOFFSETTO:+0100
TZNAME:CET
DTSTART:20181028T010000
END:STANDARD
BEGIN:DAYLIGHT
TZOFFSETFROM:+0100
TZOFFSETTO:+0200
TZNAME:CEST
DTSTART:20190331T010000
END:DAYLIGHT
BEGIN:STANDARD
TZOFFSETFROM:+0200
TZOFFSETTO:+0100
TZNAME:CET
DTSTART:20191027T010000
END:STANDARD
BEGIN:DAYLIGHT
TZOFFSETFROM:+0100
TZOFFSETTO:+0200
TZNAME:CEST
DTSTART:20200329T010000
END:DAYLIGHT
BEGIN:STANDARD
TZOFFSETFROM:+0200
TZOFFSETTO:+0100
TZNAME:CET
DTSTART:20201025T010000
END:STANDARD
BEGIN:DAYLIGHT
TZOFFSETFROM:+0100
TZOFFSETTO:+0200
TZNAME:CEST
DTSTART:20210328T010000
END:DAYLIGHT
BEGIN:STANDARD
TZOFFSETFROM:+0200
TZOFFSETTO:+0100
TZNAME:CET
DTSTART:20211031T010000
END:STANDARD
BEGIN:DAYLIGHT
TZOFFSETFROM:+0100
TZOFFSETTO:+0200
TZNAME:CEST
DTSTART:20220327T010000
END:DAYLIGHT
BEGIN:STANDARD
TZOFFSETFROM:+0200
TZOFFSETTO:+0100
TZNAME:CET
DTSTART:20221030T010000
END:STANDARD
END:VTIMEZONE
BEGIN:VEVENT
DTSTART;TZID=Europe/Paris:20211101T193000
DTEND;TZID=Europe/Paris:20211101T220000
DTSTAMP:20260421T033814
CREATED:20210216T124742Z
LAST-MODIFIED:20211025T094947Z
UID:2229-1635795000-1635804000@www.asethaarlem.nl
SUMMARY:Deep Democracy
DESCRIPTION:Wat kan deep democracy betekenen voor jouw leven en werk als het gaat om het goede gesprek te voeren en gedragen besluiten te nemen? Het grootste deel van het werken in organisaties bestaat uit het nemen van beslissingen. En het zorgen dat mensen daar ook naar gaan handelen. De manier waarop een besluit tot stand komt\, is niet altijd even effectief. Waardoor we gaan vertragen\, zuchten en saboteren. Deep Democracy is een zienswijze en een methode die de onderstroom in groepen zichtbaar en hanteerbaar maakt. Tegenstellingen en botsende meningen worden op respectvolle wijze met elkaar onderzocht. In dialoog en in discussie. Besluitvorming met aandacht en waardering voor andere opvattingen. Door grondiger besluiten neemt de daadkracht toe. \nTijdens deze interactieve workshop gaan we meer ontdekken over Deep Democracy. \nYvonne Veenendaal\nSinds 25 jaar ben ik werkzaam op het gebied van (team)coaching\, training en opleiden.\nIk sta voor ruimte\, groei en ontwikkeling. Door oude muren af te breken komt er zicht op een nieuwe horizon. Mijn specialismen zijn persoonlijke groei\, effectiviteit en communicatie binnen de samenwerking. \nNa een opleiding tot jeugdwelzijnswerker werkte ik van 1983 tot 1995 als begeleidster en leidinggevende in woonvoorzieningen voor mensen met een (verstandelijke) beperking. Al snel werd duidelijk dat ik ‘iets heb’ met medewerkers\, groepen en hun ontwikkeling. In 1995 begon ik me dan ook te ontwikkelen als (team)coach\, trainer en opleider. \nHoe werk ik? \nWarm – Betrokken – Energiek\, dat zijn woorden die bij mij passen en die mensen vaak gebruiken om me te beschrijven. \nAls kind hield ik van water. Ik kon erop dobberen en ook onder water viel er veel te zien. Eigenlijk werkt coaching net zo: kijken wat er onder het oppervlak leeft\, waarom de mens doet zoals hij doet. Ontspannen onderzoeken en tegelijk ook de diepte in. Zonder oordeel benoem ik wat ik zie. In een veilige sfeer weet ik deelnemers te prikkelen en te inspireren om met hun leervragen en dromen aan de slag te gaan om vervolgens met de behaalde successen en ontdekkingen uit de coaching koers te kiezen. \nhttps://www.humaninteract.nl/ + https://www.deepdemocracy.nl/
URL:https://www.asethaarlem.nl/agenda/deep-democracy/
LOCATION:Sociëteit Vereeniging Haarlem\, Zijlweg 1\, Haarlem\, Nederland
CATEGORIES:persoonlijke ontwikkeling,slimmer werken
ATTACH;FMTTYPE=image/jpeg:https://www.asethaarlem.nl/wp-content/uploads/2021/02/yvonne-veenendaal-e1633873472934.jpg
END:VEVENT
BEGIN:VEVENT
DTSTART;TZID=Europe/Paris:20200608T200000
DTEND;TZID=Europe/Paris:20200608T220000
DTSTAMP:20260421T033814
CREATED:20200421T192430Z
LAST-MODIFIED:20200604T072941Z
UID:2035-1591646400-1591653600@www.asethaarlem.nl
SUMMARY:Accountable Leiderschap
DESCRIPTION:‘Accountable Leiderschap’ is een rol die iedereen\, op alle niveaus binnen de organisatie\, kan vervullen. Het is dé manier om samen met je collega’s te dealen met onzekerheden en om samen potentiele problemen vroegtijdig te signaleren. Starre denkpatronen en negatieve emoties te doorbreken en contraproductieve gedragspatronen resultaatgericht te maken. \nZo kun je samenwerkingsrelaties aan gaan op basis van de vier Accountability wetten:\n– Werk veilig én oncomfortabel samen.\n– Spreek elkaar aan zonder te veroordelen.\n– Help elkaar zonder te redden.\n– Neem Accountable afscheid als je niet (meer) kunt of wilt bijdragen. \nMarco Scheele geeft leiding aan Rainmen Group en werkt als executive coach\, leiderschapstrainer en gastspreker voor vele (inter)nationale organisaties. Hij bezit het talent om complexiteit terug te brengen tot de simpele kern. Mensen op een veilige en oncomfortabele manier te raken en met humor naar henzelf te laten kijken. \nLet op de locatie is anders! \nWe zijn te gast op het kantoor van Fleur´s broer. Er is hier genoeg ruimte om 1\,5 meter van elkaar te zitten. Het adres is Velserkade\, Velsen-Noord.\n\nRoutebeschrijving:\nHet makkelijkste is het adres in Google Maps in te voeren.\n\nJe moet op de kade een hek door. Als je daar doorheen bent naar rechts gaan en over de kade rijden helemaal tot het einde van de gebouwen. Dan naar rechts gaan (dus niet het water in rijden) en dan zie je gezellige lichtjes waar je naartoe rijdt. Parkeer als je niet meer rechtdoor kunt en dan zie je een trap naar boven. Je bent aangekomen! \n\nHeb je nog hulp nodig\, of ben je toch de weg even kwijt\, Fleur is bereikbaar op 06-21131293.\n\nKom alsjeblieft op tijd zodat je ook even tijd hebt om te zoeken voor de zekerheid.\n\nVergeet niet je eigen drankje en glas mee te nemen!
URL:https://www.asethaarlem.nl/agenda/accountable-leiderschap/
CATEGORIES:persoonlijke ontwikkeling,slimmer werken
END:VEVENT
BEGIN:VEVENT
DTSTART;TZID=Europe/Paris:20191202T200000
DTEND;TZID=Europe/Paris:20191202T220000
DTSTAMP:20260421T033814
CREATED:20190415T144055Z
LAST-MODIFIED:20190919T161533Z
UID:1657-1575316800-1575324000@www.asethaarlem.nl
SUMMARY:Design Thinking 101
DESCRIPTION:Innovatie\, we willen het allemaal\, maar hebben geen flauw idee hoe! \n\n\nSamen met Fleur Engelberts gaan we in anderhalf uur een klein vraagstuk bekijken vanuit het perspectief van een klant door een Design Thinking cyclus te doorlopen en zo leren hoe innovatie kan gebeuren.\n\n\nLET OP! Locatie is anders\n\n\n\nOp maandag 2 december zijn we te gast bij de Sociëteit Vereeniging in de zaal ‘Kegelbaan’\, Zijlweg 1\, 2013 DA Haarlem\nwww.societeitvereeniging.nl\nEr is de mogelijkheid om gratis te parkeren op het eigen parkeerterrein aan de achterzijde van de Sociëteit in de Burgemeester Sandberstraat ter hoogte van nummer 12 en de zijstraat de Pijntorenstraat.\n\n \nSamen vooraf eten? Meld je aan!\nVoor kleine groepen heeft de Sociëteit een mooie aanbieding van soep met luxe broodjes (zalm/mozzarella tomaat/runderlende) voor € 15\,- per persoon.\nZe willen graag vooraf weten op hoeveel personen ze kunnen rekenen\, dus meld je snel aan via Lou Lou (link volgt tzt).\n\n\nDoe dit uiterlijk op donderdag 28 november 17.00 uur.\nHet eten is vanaf ± 18.45 uur.\n\nDe inloop van de avond is vanaf 19.45u. We starten om 20u.\nNa afloop is er de mogelijkheid om nog een drankje te drinken aan de grote bar op de eerste verdieping.
URL:https://www.asethaarlem.nl/agenda/design-thinking-101/
LOCATION:Sociëteit Vereeniging Haarlem\, Zijlweg 1\, Haarlem\, 2013 DA\, Nederland
CATEGORIES:Leden voor Leden,slimmer werken
ATTACH;FMTTYPE=image/png:https://www.asethaarlem.nl/wp-content/uploads/2019/04/Ontmoetingsplek_60x60.png
END:VEVENT
BEGIN:VEVENT
DTSTART;TZID=Europe/Paris:20190902T200000
DTEND;TZID=Europe/Paris:20190902T220000
DTSTAMP:20260421T033814
CREATED:20190524T160733Z
LAST-MODIFIED:20190821T151203Z
UID:1711-1567454400-1567461600@www.asethaarlem.nl
SUMMARY:The Footprint Challenge
DESCRIPTION:Hoe groot is die van jou?\nIn de Footprint workshop neemt Laura Moningka van The Footprint Challenge je mee in de wereld van de voetafdruk. In een quiz leer je van alles over de ecologische voetafdruk en de impact van kleine acties en je ontdekt waar voor jou de grootste impact zit en welke acties je kunt nemen.\n \nDoor wie? The footprint challenge\nThe Footprint Challenge is ontstaan vanuit het Traineeship voor Wereldverbeteraars\, waar acht young professionals met een gezamenlijke itch elkaar vonden. Iets doen voor de wereld\, een steentje bijdragen\, een positieve impact hebben op je leefomgeving. Deze itch groeide uit tot een idee. Dit idee werd een missie. Deze missie werd een actie: The Footprint Challenge!\n\n \nThe Footprint Challenge streeft naar een wereld waarin de mens in harmonie leeft met de aarde door een duurzame verkleining van de ecologische voetafdruk. Wij geloven dat met bewustwording van de impact van onze levensstijl op de aarde en met kleine aanpassingen in het dagelijkse leven\, de voetafdruk van Nederlanders veel kleiner kan worden. Kleine acties\, groot verschil!\nLet op: Locatie is anders: \nOp maandag 2 september zijn we te gast in de BakkeRij\, Hendrik Figeeweg 3F\, Haarlem.\nGratis parkeren voor de deur\, of op de Minckerslersweg ter hoogte van nummer 40. \nVoor fietsers vanuit het centrum: je kunt over de nieuwe fietsbrug achter het Lichtfabriekterrein op de Hendrik Figeeweg komen. \nLET OP! Dineren is anders\nVooraf samen dineren zal alleen door kunnen gaan als er een minimum van 10 personen zich hiervoor aanmeldt.\nMeld je snel aan via Lou Lou\, dan weten we of het door kan gaan en op hoeveel we kunnen rekenen.\n\nDoe dit uiterlijk voor donderdag 29 augustus 17.00 uur. \nBinnenkomst voor het eten op maandag 2 september is om 18.45 uur.\n\n\nHet diner wordt verzorgd door Daniël van het Figee Café dat in hetzelfde pand gevestigd is.\n\nAvond maaltijd bestaande uit Couscous met geroosterde groenten\, zuidvruchten\, noten en verse kruiden. Heel puur en verantwoord 😉\nPrijs: € 9\,50 p.p. drankjes à la carte op basis van normale prijzen Figee Café.\n\n\n\nTot 19.45 uur kan je koffie en thee bestellen\, waarna de bijeenkomst om 20.00 uur zal starten.
URL:https://www.asethaarlem.nl/agenda/the-footprint-challenge/
LOCATION:Sociëteit Vereeniging Haarlem\, Zijlweg 1\, Haarlem\, Nederland
CATEGORIES:persoonlijke ontwikkeling,slimmer werken
END:VEVENT
BEGIN:VEVENT
DTSTART;TZID=Europe/Paris:20190506T200000
DTEND;TZID=Europe/Paris:20190506T220000
DTSTAMP:20260421T033814
CREATED:20190417T123319Z
LAST-MODIFIED:20190417T123319Z
UID:1659-1557172800-1557180000@www.asethaarlem.nl
SUMMARY:W.A.I.T. Why am I talking?
DESCRIPTION:Met elke zin die we uitspreken proberen we een behoefte te vervullen. Met…élke…zin. \nMaar om erachter te komen welke behoefte dat dan is\, dat blijkt vaak nog een hele klus te zijn. \nEn daar beginnen de misverstanden\, onuitgesproken irritaties en conflicten met collega’s\, partners en cliënten. Omdat twee mensen met elkaar aan het praten zijn\, zonder dat ze weten welke onderliggende behoefte te proberen vervullen. \nDat is het inzicht dat Yves van Loodens ons wil helpen ervaren. Nadat hij meer dan 1.400 gesprekken heeft helpen openen\, wil hij ons de valkuilen laten zien die hij in zijn praktijk én zijn eigen leven heeft gezien. Want zij die er les in geven\, hebben het zelf vaak het meeste nodig. \nNa wat klassikale theorie gaan we in tweetallen oefenen met iets uit ons eigen leven. Met als intentie dat je ontspannen\, geïnspireerd en met helderheid wegloopt. Omdat je nu weet wat je al die tijd probeerde te zeggen. \nWil je je alvast inlezen? Dan kun je hier de handleiding van Loodens downloaden: https://loodens.org/wp-content/uploads/2018/10/Handleiding-Loodens-Sept-v058-HR.pdf \nDit is een kennismaking voor de cursus Eerste Hulp Bij Gesprekken.
URL:https://www.asethaarlem.nl/agenda/w-a-i-t-why-am-i-talking/
LOCATION:Sociëteit Vereeniging Haarlem\, Zijlweg 1\, Haarlem\, Nederland
CATEGORIES:persoonlijke ontwikkeling,slimmer werken
ATTACH;FMTTYPE=image/jpeg:https://www.asethaarlem.nl/wp-content/uploads/2019/04/how_can_i_make_robert_do_this_whitout_manipulating_550x550px.jpg
END:VEVENT
BEGIN:VEVENT
DTSTART;TZID=Europe/Paris:20180604T200000
DTEND;TZID=Europe/Paris:20180604T220000
DTSTAMP:20260421T033814
CREATED:20180423T113419Z
LAST-MODIFIED:20180618T110132Z
UID:1495-1528142400-1528149600@www.asethaarlem.nl
SUMMARY:Kijk eens buiten je eigen werkveld
DESCRIPTION:Ramon Vullings is als executive professor verbonden aan de Antwerp Management School & de Fontys University of Applied Sciences in Eindhoven. Hij helpt mensen om buiten de grenzen van de eigen sector te kijken\, met name op vlak van strategie\, new business & attitude ontwikkeling \n\n\nHij studeerde ‘industrial engineering & management’ en heeft een achtergrond in internationaal organisatie advies bij bedrijven zoals PwC Consulting en IBM Business Consulting Servic. Nu reist hij de wereld over om keynotes te geven en cliënten bij te staan in cross-industry innovatietrajecten. Zijn zakelijk hoogtepunt was in 2016\, toen hij gevraagd werd – door de Chief Innovation Officer van NASA – om in Houston te komen spreken voor de NASA leadership summit. Zijn keynote werd als beste beoordeeld! \nDaarnaast heeft Ramon 3 managementboeken rondom toegepaste creativiteit & innovatie geschreven. Zijn meest recente boek: ‘Not Invented Here: cross-industry innovation’ is in 5 talen vertaald en met 28000 verkochte exemplaren een management bestseller. \nAls Nederlander woont hij -met zijn gezin- reeds zeer prettig 14 jaar in Antwerpen. \n\nDe avond begon met een korte oefening\, waaruit bleek dat je verschillende\, op het eerste gezicht onverenigbare werkvelden\, best met elkaar kan combineren. Vervolgens nam Ramon ons mee in zijn verhaal over cross-industry inventions. Zoals hoe een oogziekenhuis de principes van vliegtuigen parkeren op Schiphol overnam en de operatiepraktijk beter maakte. Of hoe een fietsenmaker ervoor zorgde dat de pakketten heelhuids bij de klanten werd afgeleverd. Het was zeer inspirerend en de moeite waard!
URL:https://www.asethaarlem.nl/agenda/kijk-eens-buiten-je-eigen-werkveld/
LOCATION:Sociëteit Vereeniging Haarlem\, Zijlweg 1\, Haarlem\, Nederland
CATEGORIES:persoonlijke ontwikkeling,slimmer werken
ATTACH;FMTTYPE=image/jpeg:https://www.asethaarlem.nl/wp-content/uploads/2018/04/Ramon-Vullings-00-Profile-Picture-HQ-e1524485429624.jpeg
END:VEVENT
BEGIN:VEVENT
DTSTART;TZID=Europe/Paris:20180205T200000
DTEND;TZID=Europe/Paris:20180205T220000
DTSTAMP:20260421T033814
CREATED:20180122T124644Z
LAST-MODIFIED:20180122T134107Z
UID:1416-1517860800-1517868000@www.asethaarlem.nl
SUMMARY:Introductie: Bitcoin\, cryptocurrency en blockchain
DESCRIPTION:[vc_row][vc_column][vc_single_image image=”1418″ img_size=”full”][/vc_column][/vc_row][vc_row][vc_column][vc_column_text] \n\nAlles wat je wilt weten over bitcoin maar nooit durfde te vragen\n\nBitcoin!\nBitcoin. Deze lijkt niet meer weg te slaan uit het nieuws. Wat maakt dat iedereen in Bitcoin wil stappen? Wat is nu de werkelijke waarde van Bitcoin en hoe zit het met al die andere cryptocurrencies? Waarom gaat het onze manier van betalen in de nabije toekomst veranderen?\n\nDe mannen van de Cryptocurrency Academy\, Marcel Ott\, Jørgen Welsink en Andre Tops nemen je op toegankelijke en interactieve wijze mee in de wereld van de cryptocurency.\n\nWil je mee kunnen praten op verjaardagen\, netwerkborrels en andere events over Bitcoin\, cryptocurrency en blockchain? Kom dan naar deze presentatie:\nCryptocurrency! Niet meer weg te denken!\n\nVooraf samen dineren?\nMocht je van te voren een hapje willen eten\, dan kan je je uitsluitend per mail opgeven via info@restauranthout.nl. Doe dit uiterlijk voor maandag 16.00 uur. Binnenkomst voor het eten is half 7 en om kwart voor zeven wordt er besteld. Tot kwart voor acht kan je koffie en thee bestellen\, waarna de bijeenkomst om 20.00 uur zal starten. \nMocht je als lid niet aanwezig kunnen zijn\, laat het dan Karin per mail even weten.\nWil je graag als introduce een keer komen\, dan meld je svp hier aan. \nTOT DAN!\n\n[/vc_column_text][/vc_column][/vc_row]
URL:https://www.asethaarlem.nl/agenda/intro-bitcoin-cryptocurrency-blockchain/
LOCATION:Sociëteit Vereeniging Haarlem\, Zijlweg 1\, Haarlem\, Nederland
CATEGORIES:digital,slimmer werken
ATTACH;FMTTYPE=image/jpeg:https://www.asethaarlem.nl/wp-content/uploads/2018/01/ASET_Bitcoin_Intro.jpg
END:VEVENT
BEGIN:VEVENT
DTSTART;TZID=Europe/Paris:20170904T200000
DTEND;TZID=Europe/Paris:20170904T220000
DTSTAMP:20260421T033814
CREATED:20170212T161324Z
LAST-MODIFIED:20170821T123901Z
UID:1217-1504555200-1504562400@www.asethaarlem.nl
SUMMARY:Groei en ambitie
DESCRIPTION:Groei en ambitie: Hoe stippel je de groei van jouw bedrijf uit?\nOp een speelse manier neemt Aletta ons mee in mogelijke antwoorden.\nEen avond waar we voor even in elkaars schoenen stappen\, doorvragen over plannen en ambities en elkaar feedback geven met behulp van The Start-Up Game! \n  \nVooraf samen dineren?\nMocht je van te voren een hapje willen eten\, dan kan je je uitsluitend per mail opgeven via info@restauranthout.nl. Doe dit uiterlijk voor maandag 16.00 uur. Binnenkomst voor het eten is half 7 en om kwart voor zeven wordt er besteld. Tot kwart voor acht kan je koffie en thee bestellen\, waarna de bijeenkomst om 20.00 uur zal starten. \nMocht je als lid niet aanwezig kunnen zijn\, laat het dan Karin per mail even weten.\nWil je graag als introduce een keer komen\, dan meld je svp hier aan. \nTOT DAN!
URL:https://www.asethaarlem.nl/agenda/groei-en-ambitie/
LOCATION:Sociëteit Vereeniging Haarlem\, Zijlweg 1\, Haarlem\, Nederland
CATEGORIES:persoonlijke ontwikkeling,slimmer werken
ATTACH;FMTTYPE=image/jpeg:https://www.asethaarlem.nl/wp-content/uploads/2016/01/werkplek.jpg
END:VEVENT
BEGIN:VEVENT
DTSTART;TZID=Europe/Paris:20170612T200000
DTEND;TZID=Europe/Paris:20170612T220000
DTSTAMP:20260421T033814
CREATED:20170212T152534Z
LAST-MODIFIED:20170609T084449Z
UID:1203-1497297600-1497304800@www.asethaarlem.nl
SUMMARY:Ruim het op: chaos in orde!
DESCRIPTION:Ook wel eens last van je eigen chaos?\nMaandag 12 juni presenteert Annemiek van  “chaos in orde”  haar inzichten en zal ze met leuke prikkels een interactieve workshop geven.\n\nLocatie wijziging!!\nVanaf 19.30 zijn we welkom op de werklocatie van Dorothee: \nLeidsevaartweg 1\, Heemstede  \nMocht je als lid niet aanwezig kunnen zijn\, laat het dan Margot per mail even weten.\nWil je graag als introduce een keer komen\, dan meld je svp hier aan. \nTOT DAN!
URL:https://www.asethaarlem.nl/agenda/ruim-het-op-chaos-in-orde/
LOCATION:Leidsevaartweg 1\, Heemstede\, Leidsevaartweg 1\, Heemstede\, 2106 NA\, Nederland
CATEGORIES:Leden voor Leden,persoonlijke ontwikkeling,slimmer werken
ATTACH;FMTTYPE=image/png:https://www.asethaarlem.nl/wp-content/uploads/2017/02/logo_Chaos_in_orde.png
END:VEVENT
BEGIN:VEVENT
DTSTART;TZID=Europe/Paris:20170508T200000
DTEND;TZID=Europe/Paris:20170508T220000
DTSTAMP:20260421T033814
CREATED:20170212T151030Z
LAST-MODIFIED:20170406T090029Z
UID:1201-1494273600-1494280800@www.asethaarlem.nl
SUMMARY:Acquisitie\, wat past en werkt bij mij?
DESCRIPTION:Acquisitie\, hoe pak je dat aan?\n\nMaandag 8 mei is Marianne van de Water van QPS  onze gast.\nDeze avond gaat over koude acquisitie. En meer! Graag geeft Marianne jullie een bredere kijk over dit bijzondere fenomeen. En wat past er bij jou? Hoe kom jij als ondernemer aan nieuwe klanten? Zit je aan de telefoon met een glimlach ? \nJe gaat na deze avond naar huis met energie en inspiratie. Natuurlijk ook met praktische tips en tricks om meteen mee aan de slag te gaan. \nWie is Marianne?\nMarianne van de Water is koude acquisitie expert. Zij zorgt voor een golf aan afspraken en vooral voor een warm gevoel bij koud bellen. Sinds 2006 maakt zij voor haar opdrachtgevers afspraken met directie\, CEO CFO en Raden van Bestuur. Uitdaging: moeilijke proposities en binnen komen o.a. bij bedrijven uit de Quote 500. Met inmiddels meer dan 10.000 vlieguren op de teller en met meer dan 8000 gemaakte afspraken vertelt zij als Acquisitie Expert nu ook haar verhaal en geeft Masterclasses en Workshops : Vertellen over Bellen Marianne sprak o.a. op de Week van de Ondernemer\, NBA Accountantsdag\, voor de TMG Groep en geeft gastcolleges o.a. de HvA. \nVerder ontwikkelde ze de acquisitiewaaier met tips en inzichten http://www.q-p-s.nl/aquisitie-waaier-met-60-tips en schrijft Marianne een column voor de MKB Servicedesk Online http://www.mkbservicedesk.nl/10784/de-grootste-valkuilen-bij-koude-acquisitie.htm \n  \n“The beginning is the most important part of any work” -PLATO-\n\n\nVooraf samen dineren?\nMocht je van te voren een hapje willen eten\, dan kan je je uitsluitend per mail opgeven via info@restauranthout.nl. Doe dit uiterlijk voor maandag 16.00 uur. Binnenkomst voor het eten is half 7 en om kwart voor zeven wordt er besteld. Tot kwart voor acht kan je koffie en thee bestellen\, waarna de bijeenkomst om 20.00 uur zal starten. \nMocht je als lid niet aanwezig kunnen zijn\, laat het dan Margot per mail even weten.\nWil je graag als introduce een keer komen\, dan meld je svp hier aan. \nTOT DAN!
URL:https://www.asethaarlem.nl/agenda/acquisitie-wat-past-en-werkt-bij-mij/
LOCATION:Sociëteit Vereeniging Haarlem\, Zijlweg 1\, Haarlem\, Nederland
CATEGORIES:slimmer werken
ATTACH;FMTTYPE=image/jpeg:https://www.asethaarlem.nl/wp-content/uploads/2017/02/acquisitie-expert-marianne-van-der-water.jpg
END:VEVENT
BEGIN:VEVENT
DTSTART;TZID=Europe/Paris:20170206T200000
DTEND;TZID=Europe/Paris:20170206T220000
DTSTAMP:20260421T033814
CREATED:20170113T125045Z
LAST-MODIFIED:20170212T144656Z
UID:1151-1486411200-1486418400@www.asethaarlem.nl
SUMMARY:Workshop "Make an impact"
DESCRIPTION:Op maandagavond 6 februari is Edwin Stoop van www.sketchingmaniacs.com onze gast.\nTijdens zijn workshop “Make an impact” …\n– gaan we aan de slag met ons eigen verhaal > oa. Waar kom je vandaan? Waar sta je nu? Waar ligt je droom?\n– delen we onze verhalen met elkaar\n– visualiseren we de volgende stap; Welke stappen denk je te moeten zetten? Wat zijn de duivels die op de loer liggen? Welke vragen heb je aan anderen? \nIn dit filmpje zie je Edwin zelf in actie voor het Haarlemse Gather > https://youtu.be/u1_P_tSwrq0 \n\nNiet voor niets is zijn motto\n“Start drawing and make an impact”!\n\n\nVooraf samen dineren?\nMocht je van te voren een hapje willen eten\, dan kan je je uitsluitend per mail opgeven via info@restauranthout.nl. Doe dit uiterlijk voor maandag 16.00 uur. Binnenkomst voor het eten is half 7 en om kwart voor zeven wordt er besteld. Tot kwart voor acht kan je koffie en thee bestellen\, waarna de bijeenkomst om 20.00 uur zal starten. \nMocht je als lid niet aanwezig kunnen zijn\, laat het dan Margot per mail even weten.\nWil je graag als introduce een keer komen\, dan meld je svp hier aan. \nTOT DAN!\nklik hier voor een indruk van deze activiteit \n 
URL:https://www.asethaarlem.nl/agenda/workshop-make-an-impact/
LOCATION:Sociëteit Vereeniging Haarlem\, Zijlweg 1\, Haarlem\, Nederland
CATEGORIES:persoonlijke ontwikkeling,slimmer werken
ATTACH;FMTTYPE=image/png:https://www.asethaarlem.nl/wp-content/uploads/2017/01/Schermafdruk-2017-01-13-13.49.29.png
END:VEVENT
END:VCALENDAR