BEGIN:VCALENDAR
VERSION:2.0
PRODID:-//ASETHaarlem - ECPv6.15.20//NONSGML v1.0//EN
CALSCALE:GREGORIAN
METHOD:PUBLISH
X-WR-CALNAME:ASETHaarlem
X-ORIGINAL-URL:https://www.asethaarlem.nl
X-WR-CALDESC:Evenementen voor ASETHaarlem
REFRESH-INTERVAL;VALUE=DURATION:PT1H
X-Robots-Tag:noindex
X-PUBLISHED-TTL:PT1H
BEGIN:VTIMEZONE
TZID:Europe/Paris
BEGIN:DAYLIGHT
TZOFFSETFROM:+0100
TZOFFSETTO:+0200
TZNAME:CEST
DTSTART:20220327T010000
END:DAYLIGHT
BEGIN:STANDARD
TZOFFSETFROM:+0200
TZOFFSETTO:+0100
TZNAME:CET
DTSTART:20221030T010000
END:STANDARD
BEGIN:DAYLIGHT
TZOFFSETFROM:+0100
TZOFFSETTO:+0200
TZNAME:CEST
DTSTART:20230326T010000
END:DAYLIGHT
BEGIN:STANDARD
TZOFFSETFROM:+0200
TZOFFSETTO:+0100
TZNAME:CET
DTSTART:20231029T010000
END:STANDARD
BEGIN:DAYLIGHT
TZOFFSETFROM:+0100
TZOFFSETTO:+0200
TZNAME:CEST
DTSTART:20240331T010000
END:DAYLIGHT
BEGIN:STANDARD
TZOFFSETFROM:+0200
TZOFFSETTO:+0100
TZNAME:CET
DTSTART:20241027T010000
END:STANDARD
BEGIN:DAYLIGHT
TZOFFSETFROM:+0100
TZOFFSETTO:+0200
TZNAME:CEST
DTSTART:20250330T010000
END:DAYLIGHT
BEGIN:STANDARD
TZOFFSETFROM:+0200
TZOFFSETTO:+0100
TZNAME:CET
DTSTART:20251026T010000
END:STANDARD
BEGIN:DAYLIGHT
TZOFFSETFROM:+0100
TZOFFSETTO:+0200
TZNAME:CEST
DTSTART:20260329T010000
END:DAYLIGHT
BEGIN:STANDARD
TZOFFSETFROM:+0200
TZOFFSETTO:+0100
TZNAME:CET
DTSTART:20261025T010000
END:STANDARD
END:VTIMEZONE
BEGIN:VEVENT
DTSTART;TZID=Europe/Paris:20251201T193000
DTEND;TZID=Europe/Paris:20251201T223000
DTSTAMP:20260420T184427
CREATED:20251201T211951Z
LAST-MODIFIED:20260120T162347Z
UID:3495-1764617400-1764628200@www.asethaarlem.nl
SUMMARY:Architectuurlessen
DESCRIPTION:Op maandag 1 december waren we met het netwerk ASET Haarlem weer bij elkaar\, dit keer met een workshop ‘Architectuur’ van een van onze leden: Marjon Bodewes. Ze is (binnenhuis) architect bij Studio Bind én gastdocent ‘Architectuurlessen’ op basisscholen en middelbare scholen. Marjon geeft er korte cursussen en ook workshops. \n\nWe maakten kennis met het ‘het Geometrisch Gevaarte’. We bouwden eerst met korte en lange stokken en verbindingsstukken een aantal vormen. Van papier naar 3D\, dat vraagt ruimtelijk inzicht. En we kwamen er proefondervindelijk achter wat stevig is (een driehoek) en wat niet (een vierkant).\nMaar de grote teamopdracht – een zo indrukwekkend mogelijk bouwsel maken – was een nog grotere uitdaging. Want wat kan er dan gebeuren? \nEen van de teamleden bouwt voortvarend; de rest van het team vertrouwt het wel\, totdat het nergens op lijkt\, dan wordt de rest actief\, ook solo maar aan hetzelfde bouwsel. Het geometrisch gevaarte stort in elkaar\nDaarna start het overleg – dus aan de late kant\nJe plant je vlag op de top van het bouwwerk; de ene groep dus wat indrukwekkender dan de ander. \nMet elkaar een mooie avond over architectuur – en vooral over geometrie en samenwerking. Dank aan Marjon voor de mooie inzichten en dank aan Architectuurlessen voor het gebruik van de workshopmaterialen.
URL:https://www.asethaarlem.nl/agenda/architectuurlessen/
CATEGORIES:Kennis
ATTACH;FMTTYPE=image/jpeg:https://www.asethaarlem.nl/wp-content/uploads/2026/01/architectuurlessen.jpg
END:VEVENT
BEGIN:VEVENT
DTSTART;TZID=Europe/Paris:20251006T193000
DTEND;TZID=Europe/Paris:20251006T220000
DTSTAMP:20260420T184427
CREATED:20250831T145021Z
LAST-MODIFIED:20250923T105823Z
UID:3386-1759779000-1759788000@www.asethaarlem.nl
SUMMARY:Cyberweerbaarheid
DESCRIPTION:DSE IT-Services nodigt ASET in Haarlem van harte uit voor een prikkelende en gezellige pubquiz rondom het thema cyberweerbaarheid! In deze digitale wereld is het beschermen van gegevens en systemen belangrijker dan ooit. Daarom willen wij\, op een laagdrempelige en interactieve manier\, kennis delen en het gesprek aangaan over actuele cyberdreigingen\, slimme beveiligingstips en de nieuwste trends op het gebied van digitale veiligheid. \nTijdens de pubquiz worden uitdagende\, leerzame én verrassende vragen gesteld over onderwerpen als phishing\, sterke wachtwoorden\, privacy\, social engineering en meer. Of je nu al veel weet van ICT of juist nieuwsgierig bent naar hoe je jouw online veiligheid kunt vergroten—iedereen kan meedoen en er iets van opsteken. Natuurlijk zorgen we voor een ontspannen sfeer\, een vleugje competitie.
URL:https://www.asethaarlem.nl/agenda/cyberweerbaarheid/
LOCATION:Hello I’m local\, Spaarnwouderstraat 74\, Haarlem\, Nederland
CATEGORIES:Kennis
ATTACH;FMTTYPE=image/jpeg:https://www.asethaarlem.nl/wp-content/uploads/2025/08/cybercrime-oktober-2025.jpg
END:VEVENT
BEGIN:VEVENT
DTSTART;TZID=Europe/Paris:20250901T193000
DTEND;TZID=Europe/Paris:20250901T223000
DTSTAMP:20260420T184427
CREATED:20250727T105844Z
LAST-MODIFIED:20250727T105849Z
UID:3380-1756755000-1756765800@www.asethaarlem.nl
SUMMARY:Verhalen vertellen
DESCRIPTION:Zolang er mensen zijn vertellen ze elkaar verhalen. Om ervaringen te delen\, om iets door te geven\, om contact met elkaar te hebben. Met verhalen roep je emoties op\, zorg je voor herkenning bij degene aan wie je het vertelt en ontdek je nieuwe werelden. \nNiet zo gek dus dat verhalen vaak worden ingezet om boodschappen voor het voetlicht te brengen of organisaties en producten aan de man te brengen. Dan noemen we het storytelling. Want laten we eerlijk zijn: organisatiedoelstellingen\, missie en visie\, zijn saai. Verhalen niet. Verhalen raken je hart en prikkelen je geest. Verhalen stimuleren je verbeelding en stellen je in staat op ontdekkingsreis te gaan\, overal en op elk tijdstip. \nIn deze inspiratiesessie verkennen we in ruim een uur de kracht van de vertelkunst en oefen je zelf met de opbouw van een goed verhaal. We maken kennis met story-arches en motorische momenten\, met drut’syla’s en Disney’s reis van de held. Uiteraard krijg je een hand-out mee met handvatten om je verder te verdiepen in het ambacht van de verhalenverteller. \nMieke Berkamp begeleidt de sessie. Ze is een Haarlemse verteller en wil met haar verhalen bijdragen aan de verbinding van mensen onderling\, aan hun omgeving en hun geschiedenis. \nMeer over Mieke lees je hier.
URL:https://www.asethaarlem.nl/agenda/verhalen-vertellen/
LOCATION:Hello I’m local\, Spaarnwouderstraat 74\, Haarlem\, Nederland
CATEGORIES:Kennis
ATTACH;FMTTYPE=image/jpeg:https://www.asethaarlem.nl/wp-content/uploads/2025/07/Verhalen-vertellen.jpg
END:VEVENT
BEGIN:VEVENT
DTSTART;TZID=Europe/Paris:20250303T193000
DTEND;TZID=Europe/Paris:20250303T223000
DTSTAMP:20260420T184427
CREATED:20250127T203113Z
LAST-MODIFIED:20250212T161104Z
UID:3285-1741030200-1741041000@www.asethaarlem.nl
SUMMARY:Human design
DESCRIPTION:Meer in je natuurlijke kracht door het toepassen van Human Design. \nIn een wereld waarin we geconfronteerd worden met allerlei invloeden\, meningen en kritiek\, is het soms lastig om dicht bij jezelf te blijven. We verliezen de connectie met wie we zijn doordat we aan de verwachtingen van buitenaf willen voldoen. Maar wie ben jij nu dan eigenlijk écht? Diep van binnen? Human Design geeft je hier antwoord op. \nRianne van Baarsen (Barefoot in Business) zet Human Design in om vrouwen (weer) in hun natuurlijke kracht te zetten. Door samen te kijken naar je unieke blauwdruk\, je Human Design chart\, ontvouwt zich een handleiding voor jou als persoon. Zodra je volgens je Human Design gaat leven\, kom je volledig in je natuurlijke kracht en kun je een leuker\, luchtiger en succesvoller leven leiden.
URL:https://www.asethaarlem.nl/agenda/human-design/
LOCATION:Hello I’m local\, Spaarnwouderstraat 74\, Haarlem\, Nederland
CATEGORIES:Kennis
ATTACH;FMTTYPE=image/jpeg:https://www.asethaarlem.nl/wp-content/uploads/2025/01/Rianne-van-Baarsen-kleiner.jpg
END:VEVENT
BEGIN:VEVENT
DTSTART;TZID=Europe/Paris:20250203T193000
DTEND;TZID=Europe/Paris:20250203T223000
DTSTAMP:20260420T184427
CREATED:20250127T203332Z
LAST-MODIFIED:20250127T203332Z
UID:3287-1738611000-1738621800@www.asethaarlem.nl
SUMMARY:ASET  Haarlem gaat op bezoek bij 113 zelfmoordpreventie in Amsterdam
DESCRIPTION:ASET  Haarlem gaat op bezoek bij 113 zelfmoordpreventie in Amsterdam. \nDe missie van 113 is een land waarin niemand eenzaam of radeloos sterft door zelfdoding. Per jaar sterven er rond de 1800 mensen aan zelfdoding. Dat zijn 2\,5 keer meer doden door suïcide dan verkeersdoden. Zelfdoding is doodsoorzaak nummer 1 bij jongvolwassenen tot 30 jaar. \n113 heeft een 24/7 bereikbare hulplijn\, biedt online therapie aan\, is het kenniscentrum in Nederland waar heel veel onderzoek samenkomt\, heeft een Academy en trekt de Landelijke Agenda suïcide preventie. Een kijken in de keuken van alles wat met suicidepreventie te maken heeft.
URL:https://www.asethaarlem.nl/agenda/aset-haarlem-gaat-op-bezoek-bij-113-zelfmoordpreventie-in-amsterdam/
LOCATION:Kantoor 113 in Amsterdam
CATEGORIES:Kennis
ATTACH;FMTTYPE=image/png:https://www.asethaarlem.nl/wp-content/uploads/2025/01/113-zelfmoordpreventie-logo-3.png
END:VEVENT
BEGIN:VEVENT
DTSTART;TZID=Europe/Paris:20241202T190000
DTEND;TZID=Europe/Paris:20241202T223000
DTSTAMP:20260420T184427
CREATED:20240725T112951Z
LAST-MODIFIED:20241029T221153Z
UID:3197-1733166000-1733178600@www.asethaarlem.nl
SUMMARY:Mijn Stijl iD
DESCRIPTION:Anna Beth Smeltekop is een zeer ervaren communicatiestrateeg die zich met veel passie inzet voor\neen betere\, mooiere en gezondere wereld. Ze werkt dan ook het liefst voor organisaties met een\nmaatschappelijk doel. Samen met een team ontwikkelde ze voor Milieu Centraal de training\n(gedragsinterventie) en landelijke campagne ‘Mijn Stijl iD’. Deze training richt zich vooral op jonge\nvrouwen en helpt hen te ontdekken welke stijl echt bij hen past. En dat helpt om minder kleding te\nkopen. \nOm binnen de grens van 1\,5 graad opwarming van de aarde te blijven\, zoals vastgelegd in het\nklimaatakkoord van Parijs\, zou iedere wereldburger maximaal vijf nieuwe kledingstukken per jaar\nmogen kopen. Nederlanders kopen echter gemiddeld 46 nieuwe kledingstukken per jaar… Je wordt in\nje omgeving constant verleid om iets nieuws te kopen\, en wie een toffe nieuwe jeans scoort\, wordt\nbovendien beloond met een kortdurend geluksgevoel. Er komt een beetje dopamine vrij in je brein –\neen fijn gevoel dat je steeds opnieuw wilt ervaren. \nDe online training is tot stand gekomen in samenwerking met Psychologie Magazine en is volledig\nonderbouwd vanuit gedragswetenschap\, impactonderzoek en fashionpsychologie. In zes stappen\nleren modepsycholoog Anke Vermeer\, kledingstylist Mirjam Hamming en gedragswetenschapper\nJudith Roumen de deelnemers een eigen kledingstijl te ontwikkelen en weloverwogen duurzame\nkeuzes te maken. Dankzij de PR-inzet werd de grote impact van de kledingindustrie tijdens de\ncampagne ook breed uitgemeten in de media\, van het 8-uur journaal tot columns in Vogue. Anna\nBeth neemt ons mee in de achtergronden van de campagne en wat er nodig is om een effectieve\nonline training en campagne te ontwikkelen.
URL:https://www.asethaarlem.nl/agenda/placeholder-voor-aset-event-3/
LOCATION:Hello I’m local\, Spaarnwouderstraat 74\, Haarlem\, Nederland
CATEGORIES:Kennis
ATTACH;FMTTYPE=image/jpeg:https://www.asethaarlem.nl/wp-content/uploads/2024/07/Anna-Beth.jpg
END:VEVENT
BEGIN:VEVENT
DTSTART;TZID=Europe/Paris:20240513T193000
DTEND;TZID=Europe/Paris:20240513T220000
DTSTAMP:20260420T184427
CREATED:20240412T133027Z
LAST-MODIFIED:20240412T135332Z
UID:3104-1715628600-1715637600@www.asethaarlem.nl
SUMMARY:Bedrijfsbezoek aan 3D Makers Zone
DESCRIPTION:13 mei brengt ASET Haarlem een bezoek aan een van de meest innovatieve bedrijven van Haarlem\, 3DMZ (3D Makers Zone). Daar worden we ontvangen en rondgeleid door Merel van Loon en Herman van Bolhuis. Zij geven ons een toelichting op de nieuwste toepassingen van 3D maakindustrie\, en een kijkje achter de schermen. Daarnaast geven ze een uitleg over ontwikkelingen en de betekenis van 3D in de samenleving. 3DMZ zijn denkers en doeners die ook onderwijs\, overheden en bedrijfsleven verbinden. \n3DMZ is gesitueerd in MAAK Haarlem. Dit is een oude industriële garageloods die is getransformeerd tot creatieve\, technologische werkruimte waar verschillende labs zijn ingericht met een scala aan grote en kleine industriële 3D-printers\, robotarmen\, 3D-scanners en expo-opstellingen.
URL:https://www.asethaarlem.nl/agenda/bedrijfsbezoek-aan-3d-makers-zone/
LOCATION:MAAK Haarlem
CATEGORIES:Kennis
ATTACH;FMTTYPE=image/jpeg:https://www.asethaarlem.nl/wp-content/uploads/2024/04/sDMZ.jpg
END:VEVENT
BEGIN:VEVENT
DTSTART;TZID=Europe/Paris:20240205T193000
DTEND;TZID=Europe/Paris:20240205T223000
DTSTAMP:20260420T184427
CREATED:20240114T192222Z
LAST-MODIFIED:20240114T192222Z
UID:3080-1707161400-1707172200@www.asethaarlem.nl
SUMMARY:De macht van beeld
DESCRIPTION:Merel Bem schrijft en spreekt ruim twintig jaar over fotografie en beeldvorming voor diverse media en opdrachtgevers. In de rubriek ‘Beeldvormers’\, op zaterdag in de Volkskrant\, bespreekt ze foto’s die onze blik op de wereld sturen en bepalen. \nSamen met fotograaf Cigdem Yüksel geeft ze masterclasses over beeldvorming in de media en de macht van beeld (o.a. aan de beeldredacties van RTL Nieuws\, VPRO en de Nationale Politie). Ze geven voorbeelden uit diverse media en analyseren het beeldgebruik. Waarom maken we zo vaak gebruik van dezelfde soort beelden die stereotypes in stand houden? Ze proberen bloot te leggen welke mechanismen er zitten áchter een beeldkeuze\, en of het ook anders kan. \n  \n 
URL:https://www.asethaarlem.nl/agenda/de-macht-van-beeld/
LOCATION:Hello I’m local\, Spaarnwouderstraat 74\, Haarlem\, Nederland
CATEGORIES:Kennis
ATTACH;FMTTYPE=image/jpeg:https://www.asethaarlem.nl/wp-content/uploads/2024/01/Merel-Bem-illustratie-5-feb-2024.jpg
END:VEVENT
BEGIN:VEVENT
DTSTART;TZID=Europe/Paris:20231106T193000
DTEND;TZID=Europe/Paris:20231106T220000
DTSTAMP:20260420T184427
CREATED:20231014T202330Z
LAST-MODIFIED:20231014T202330Z
UID:2997-1699299000-1699308000@www.asethaarlem.nl
SUMMARY:ShareLocal
DESCRIPTION:ShareLocal – Als we allemaal een stap zetten\, kunnen we samen een groot verschil maken. \nHaarlem is een stad met vele gezichten\, waar welvaart en armoede soms dichter bij elkaar liggen dan we denken. Annemarie van der Linden\, directeur van de Haarlemse stichting ShareLocal\, heeft een missie: een eerlijkere verdeling van welvaart\, welzijn\, kennis en kansen in onze prachtige stad. En dit is urgenter dan ooit\, want in Haarlem leeft 1 op de 13 kinderen in armoede\, en in de Boerhavewijk zelfs 1 op de 3. \nShareLocal zet zich in voor meer bewustzijn rond bestaansonzekerheid en stille armoede en wil de kloof tussen rijk en arm verkleinen door Haarlemmers en Haarlemse bedrijven te motiveren om welvaart\, welzijn\, kennis en kansen te delen met stadsgenoten die worstelen om rond te komen.
URL:https://www.asethaarlem.nl/agenda/sharelocal/
LOCATION:Nieuwe Vide\, Haarlem\, Energieplein 69\, Haarlem\, Nederland
CATEGORIES:Kennis
ATTACH;FMTTYPE=image/jpeg:https://www.asethaarlem.nl/wp-content/uploads/2023/10/sharelocal.jpg
END:VEVENT
BEGIN:VEVENT
DTSTART;TZID=Europe/Paris:20230904T193000
DTEND;TZID=Europe/Paris:20230904T213000
DTSTAMP:20260420T184427
CREATED:20230429T134221Z
LAST-MODIFIED:20230808T211354Z
UID:2801-1693855800-1693863000@www.asethaarlem.nl
SUMMARY:Rondleiding Provinciehuis Noord Holland
DESCRIPTION:Een bijzondere rondleiding en interessant kijkje achter de schermen van het Provinciehuis van Noord Holland. \nIets vroeger dan gebruikelijk voor de ASET bijeenkomsten worden we door een jong Statenlid bijgepraat over haar beweegredenen om Statenlid te worden\, haar recente ervaringen en zal de democratie worden uitgelegd. Van 20.00 tot 21.30 uur krijgen we een rondleiding door het provinciehuis waarna we de bijzondere avond afsluiten met koffie en thee.
URL:https://www.asethaarlem.nl/agenda/rondleiding-provinciehuis-noord-holland/
LOCATION:Provinciehuis Haarlem\, Dreef 3\, Haarlem\, Noord Holland\, 2012 HR\, Nederland
CATEGORIES:Kennis
ATTACH;FMTTYPE=image/jpeg:https://www.asethaarlem.nl/wp-content/uploads/2023/04/Paviljoen-welgelegen-provinciehuis.jpg
END:VEVENT
BEGIN:VEVENT
DTSTART;TZID=Europe/Paris:20230904T190000
DTEND;TZID=Europe/Paris:20230904T220000
DTSTAMP:20260420T184427
CREATED:20230906T192725Z
LAST-MODIFIED:20230906T192725Z
UID:2967-1693854000-1693864800@www.asethaarlem.nl
SUMMARY:Bezoek aan het Provinciehuis
DESCRIPTION:Maandag 4 september was de eerste ASET bijeenkomst na de zomer meteen een regelrechte hit! Allereerst werden we bijgepraat over hoe de democratie werkt met de Staat – Provincie – Gemeente door Marloes ten Ham. Zeker inspirerend om zo’n jong Statenlid enthousiast te zien vertellen over de politiek. \nDaarna werden we uitgebreid rondgeleid door het Provinciehuis ofwel het Paviljoen Welgelegen met alle sappige verhalen erbij. Wat was het bijzonder om de geschiedenis en de verhalen achter de bijzondere kamers te horen en wat is het mooi! We voelden ons zeer speciaal deze avond. \n  \n 
URL:https://www.asethaarlem.nl/agenda/bezoek-aan-het-provinciehuis/
LOCATION:Provinciehuis Haarlem\, Dreef 3\, Haarlem\, Noord Holland\, 2012 HR\, Nederland
CATEGORIES:Kennis
ATTACH;FMTTYPE=image/jpeg:https://www.asethaarlem.nl/wp-content/uploads/2023/09/Provinciehuis-klein.jpg
END:VEVENT
END:VCALENDAR