BEGIN:VCALENDAR
VERSION:2.0
PRODID:-//ASETHaarlem - ECPv6.15.20//NONSGML v1.0//EN
CALSCALE:GREGORIAN
METHOD:PUBLISH
X-WR-CALNAME:ASETHaarlem
X-ORIGINAL-URL:https://www.asethaarlem.nl
X-WR-CALDESC:Evenementen voor ASETHaarlem
REFRESH-INTERVAL;VALUE=DURATION:PT1H
X-Robots-Tag:noindex
X-PUBLISHED-TTL:PT1H
BEGIN:VTIMEZONE
TZID:Europe/Paris
BEGIN:DAYLIGHT
TZOFFSETFROM:+0100
TZOFFSETTO:+0200
TZNAME:CEST
DTSTART:20160327T010000
END:DAYLIGHT
BEGIN:STANDARD
TZOFFSETFROM:+0200
TZOFFSETTO:+0100
TZNAME:CET
DTSTART:20161030T010000
END:STANDARD
BEGIN:DAYLIGHT
TZOFFSETFROM:+0100
TZOFFSETTO:+0200
TZNAME:CEST
DTSTART:20170326T010000
END:DAYLIGHT
BEGIN:STANDARD
TZOFFSETFROM:+0200
TZOFFSETTO:+0100
TZNAME:CET
DTSTART:20171029T010000
END:STANDARD
BEGIN:DAYLIGHT
TZOFFSETFROM:+0100
TZOFFSETTO:+0200
TZNAME:CEST
DTSTART:20180325T010000
END:DAYLIGHT
BEGIN:STANDARD
TZOFFSETFROM:+0200
TZOFFSETTO:+0100
TZNAME:CET
DTSTART:20181028T010000
END:STANDARD
BEGIN:DAYLIGHT
TZOFFSETFROM:+0100
TZOFFSETTO:+0200
TZNAME:CEST
DTSTART:20190331T010000
END:DAYLIGHT
BEGIN:STANDARD
TZOFFSETFROM:+0200
TZOFFSETTO:+0100
TZNAME:CET
DTSTART:20191027T010000
END:STANDARD
BEGIN:DAYLIGHT
TZOFFSETFROM:+0100
TZOFFSETTO:+0200
TZNAME:CEST
DTSTART:20200329T010000
END:DAYLIGHT
BEGIN:STANDARD
TZOFFSETFROM:+0200
TZOFFSETTO:+0100
TZNAME:CET
DTSTART:20201025T010000
END:STANDARD
BEGIN:DAYLIGHT
TZOFFSETFROM:+0100
TZOFFSETTO:+0200
TZNAME:CEST
DTSTART:20210328T010000
END:DAYLIGHT
BEGIN:STANDARD
TZOFFSETFROM:+0200
TZOFFSETTO:+0100
TZNAME:CET
DTSTART:20211031T010000
END:STANDARD
BEGIN:DAYLIGHT
TZOFFSETFROM:+0100
TZOFFSETTO:+0200
TZNAME:CEST
DTSTART:20220327T010000
END:DAYLIGHT
BEGIN:STANDARD
TZOFFSETFROM:+0200
TZOFFSETTO:+0100
TZNAME:CET
DTSTART:20221030T010000
END:STANDARD
END:VTIMEZONE
BEGIN:VEVENT
DTSTART;TZID=Europe/Paris:20210510T193000
DTEND;TZID=Europe/Paris:20210510T220000
DTSTAMP:20260421T035424
CREATED:20210216T130310Z
LAST-MODIFIED:20210216T155518Z
UID:2233-1620675000-1620684000@www.asethaarlem.nl
SUMMARY:Duurzame architectuurwandeling
DESCRIPTION:We gaan eropuit! Samen met Aset-lid Elsie de Bruyn\, laat zij ons de architectuur van Haarlem op een andere\, duurzame manier kennen.
URL:https://www.asethaarlem.nl/agenda/duurzame-archirectuurwandeling/
CATEGORIES:cultuur,Leden voor Leden
ATTACH;FMTTYPE=image/jpeg:https://www.asethaarlem.nl/wp-content/uploads/2021/02/index-e1676318053389.jpg
END:VEVENT
BEGIN:VEVENT
DTSTART;TZID=Europe/Paris:20191007T193000
DTEND;TZID=Europe/Paris:20191007T220000
DTSTAMP:20260421T035424
CREATED:20190524T155031Z
LAST-MODIFIED:20190925T075327Z
UID:1708-1570476600-1570485600@www.asethaarlem.nl
SUMMARY:Workshop bewust vieren (met champagne)
DESCRIPTION:Let op! De tijden zijn anders. \n\n\n\nDe inloop voor de avond is vanaf 19.15 uur en de bijeenkomst start om 19.30 uur!\nVergeet jij regelmatig successen te vieren?  Ga je na een afgeronde klus snel door naar de volgende? Sta je wel eens stil – echt stil- met wat er allemaal al wél is in je leven? \n\n\nJeroen Klijberg is Champagne Coach en helpt jou om meer te (leren) vieren. \nWat heb jij eigenlijk écht te vieren? Wat maakt je trots? Waar ben je dankbaar voor? Waar wil je even écht bewust bij stilstaan? Deze vragen staan centraal in deze workshop. Jeroen nodigt jouw uit om je alledaagse en bijzondere momenten extra speciaal te maken. Speciaal genoeg om er met Champagne ‘op te proosten’. \n\n\n“Dat gaan we doen. Samen proosten met bijzondere Champagne. Mijn bedrijf Jérôme’s Champagne speurt voor de allerfijnste Champagnes bij kleine Champagneboeren. Vele generaties van deze familiebedrijven zorgen met hun kennis voor uitzonderlijke producten. Zij maken de Champagne van eigen geteelde druiven en brengen de producten zelf op de markt. Hierdoor leveren ze de allerhoogste kwaliteit.” \nWe gaan samen onderzoeken wat jij wilt vieren. Je loopt in deze workshop in elk geval met een viermoment rijker de deur uit\, waar je als je dat wilt een heerlijke Champagnefles bij kunt kopen. Om daar met mensen die belangrijk voor je zijn – thuis of op het werk eens bewust bij stil te staan. \n\n\n!Nieuwe Locatie!\n\nWe zijn te gast in “Het Badhuis Leidsebuurt”\, Leidseplein 49\, 2013 PW Haarlem \nhttps://badhuisleidsebuurt.nl/ \nEr is voldoende ruimte om fietsen te stallen. Betaald parkeren in de Leidsebuurt geldt op ma tussen 9:00 en 23:00. Tarief: € 3\,25 per uur\, max. 3 uur. (misschien vind je bij de oude AH-locatie op de Westergracht nog een gratis plekje.) \n Samen sushi eten? Meld je aan!\n\nWe regelen en bestellen zelf sushi voor degene die komen eten.Meld je snel aan via Lou Lou (link volgt tzt)\, dan weten we op hoeveel we kunnen rekenen. Doe dit uiterlijk op donderdag 3 oktober 17.00 uur. \n\n\nDe bezorging van het eten op maandag 7 oktober zetten we op ± 18.15 uur. \nPrijs verrekenen we met een tikkie: Tussen de € 15\,- en € 20\,- p.p. en de drank regelen we ook zelf.\nHeb je na 22 uur nog zin om na te praten en/of in een afzakkertje dan kan dit bij bijvoorbeeld:\n– Café Spoorloos op de Westergracht 97\, 2013 PN Haarlem\n– Café De Roemer op de Botermarkt 17\, 2011 XL Haarlem \nBeiden zijn ongeveer 2\,5 minuut fietsen 😉
URL:https://www.asethaarlem.nl/agenda/workshop-bewust-vieren-met-champagne/
LOCATION:Badhuis\, Leidseplein 49 \, Haarlem\, 2013 PW \, Nederland
CATEGORIES:cultuur,persoonlijke ontwikkeling
ATTACH;FMTTYPE=image/jpeg:https://www.asethaarlem.nl/wp-content/uploads/2015/11/Champagne-proeverij2.jpg
END:VEVENT
BEGIN:VEVENT
DTSTART;TZID=Europe/Paris:20181018T200000
DTEND;TZID=Europe/Paris:20181018T220000
DTSTAMP:20260421T035424
CREATED:20180618T073638Z
LAST-MODIFIED:20180625T101306Z
UID:1504-1539892800-1539900000@www.asethaarlem.nl
SUMMARY:Extra: The Gentle Woman
DESCRIPTION:Deze avond staat in het teken van een extra avond\, met een uitstapje naar de Toneelschuur. Op het programma staat The Gentle Woman\, een productie van Mugmetdegoudentand/Frascate Producties / Jibbe Willems. \n\n‘We want Google to be the third half of your brain’\, schreef het bedrijf. In The Gentle Woman besluit een vrouw tot een digital suicide. Bij het wissen van haar online bestaan komen vragen boven over wie ze eigenlijk is en wat menselijkheid nog betekent. Ze ontmoet schimmige figuren waarvan het bestaan niet te achterhalen valt en gaat intense relaties aan. Maar met wie praat ze? Een beeldende\, muzikale trip door een schemerachtige wereld tussen technologie en mens\, tussen on- en offline\, tussen leven en dood. \nmet: Lineke Rijxman\, Rosa van Leeuwen tekst: Jibbe Willems  regie: Davy Pieters \n 
URL:https://www.asethaarlem.nl/agenda/extra-the-gentle-woman/
LOCATION:Toneelschuur\, Lange begijnenstraat 9\, Haarlem\,  2011 HH
CATEGORIES:cultuur
ATTACH;FMTTYPE=image/jpeg:https://www.asethaarlem.nl/wp-content/uploads/2018/06/Thegentlewoman_InezvanLamsweerde_en_VinoodhMatadin_web.jpg
END:VEVENT
BEGIN:VEVENT
DTSTART;TZID=Europe/Paris:20180218T160000
DTEND;TZID=Europe/Paris:20180218T180000
DTSTAMP:20260421T035424
CREATED:20180122T133009Z
LAST-MODIFIED:20180122T133854Z
UID:1423-1518969600-1518976800@www.asethaarlem.nl
SUMMARY:extra event: voorstelling "echt gebeurd"
DESCRIPTION:[vc_row][vc_column width=”1/2″][vc_single_image image=”1424″ img_size=”300×200″][/vc_column][/vc_row][vc_row][vc_column][vc_column_text] \n\nBij Echt Gebeurd vertellen mensen op een klein podium mooie\, bijzondere of grappige verhalen over iets dat ze zelf hebben meegemaakt. Ook leest er maandelijks iemand voor uit zijn of haar puberdagboek. \nVoor meer info en verhalen uit vorige edities: www.echtgebeurd.net.\n(Kaarten zijn reeds gekocht voor diegene die zich gemeld hebben. De voorstelling is voor 18.02 uitverkocht.) \nThema voor 18.02.2018:\nVerovering:\nMet rozen\, zoete woordjes en foute grappen gaat Echt Gebeurd mee op rooftocht. Om de meest beveiligde burcht te veroveren die er bestaat: het hart van je buurjongen/ collega/ schoonzus/ leraar handarbeid/ patiënt/ cliënt/ de vader van je kinderen. Kom vertellen over hoe je je leraar Frans met een Duits gedicht het hof maakte. Of hoe je leraar Engels het hoofd op hol deed gaan. Hoe je jarenlang met je broer streed om een kus van je buurmeisje (die er overigens met je zusje vandoor ging). Of hoe je op je vijfentachtigste eindelijk de man van je dromen ontmoette in het Zonnehuis en niets jullie meer in de weg stond\, behalve zijn dood. Maar als je ooit een land hebt veroverd mag je natuurlijk ook komen vertellen.[/vc_column_text][/vc_column][/vc_row]
URL:https://www.asethaarlem.nl/agenda/extra-event-echt-gebeurd/
LOCATION:Sociëteit Vereeniging Haarlem\, Zijlweg 1\, Haarlem\, 2013 DA\, Nederland
CATEGORIES:cultuur
ATTACH;FMTTYPE=image/jpeg:https://www.asethaarlem.nl/wp-content/uploads/2018/01/ASET_Echtgebeurd.jpg
END:VEVENT
BEGIN:VEVENT
DTSTART;TZID=Europe/Paris:20170923T080000
DTEND;TZID=Europe/Paris:20170924T210000
DTSTAMP:20260421T035424
CREATED:20170212T160602Z
LAST-MODIFIED:20171003T223344Z
UID:1214-1506153600-1506286800@www.asethaarlem.nl
SUMMARY:ASET weekend!
DESCRIPTION:Het ASET weekend 2017!\nZaterdag 23- en zondag 24 September\nEen weekend vol activiteiten en gezelligheid \, maar vooral verassingen! \n“Raponsje\, Raponsje\,\nLaat vallen je haar\nJouw lokken\, een ladder\nZo kom ik daar” \n(en dat is de enige hint die jullie krijgen) \nNú weten hoe het geweest is? Kijk hier verder voor foto’s en verhaal!\nNú weten hoe het geweest is? Kijk hier verder voor foto’s en verhaal!Dit jaar gaan we zaterdag en zondag weg (1 overnachting dus). Sommigen van jullie gaven aan dat prettig te vinden en daarbij willen wij als weekend commissie streven naar het ultieme groepsgevoel: Iedereen één nacht op één locatie als één groep. \nWat moet je doen?\n* Pak je agenda en blokkeer 23 en 24 september van ongeveer 11:00 (za) t/m 16:00 (zo) in je agenda.\n* Mail naar Margot: m.timmervanhees@quicknet.nl en geef je op.\n* Doe dit voor 28 feb 2017.\n* Kosten zijn ongeveer 150 euro; t.z.t. volgt een factuur. \nWij hebben er heel veel zin in en jij natuurlijk ook!
URL:https://www.asethaarlem.nl/agenda/aset-weekend/
CATEGORIES:culinair,cultuur
ATTACH;FMTTYPE=image/jpeg:https://www.asethaarlem.nl/wp-content/uploads/2015/11/aset-weekend.jpg
END:VEVENT
END:VCALENDAR